BEGIN:VCALENDAR
PRODID:-//eluceo/ical//2.0/EN
VERSION:2.0
CALSCALE:GREGORIAN
BEGIN:VEVENT
UID:9e4001b9fa50c3043e9bd0b41402811b
DTSTAMP:20260423T135147Z
SUMMARY:Fluctuation-Induced Quantum Friction of a Brownian Particle in the 
 Anderson Model with Coulomb Interaction
DTSTART:20260423T090000Z
DTEND:20260423T100000Z
LOCATION:Teams
END:VEVENT
END:VCALENDAR
