BEGIN:VCALENDAR
PRODID:-//eluceo/ical//2.0/EN
VERSION:2.0
CALSCALE:GREGORIAN
BEGIN:VEVENT
UID:19ddbcd96f5c8cbc3c92a9ade9ba40ba
DTSTAMP:20260421T205503Z
SUMMARY:Surface-confinement-governed incomplete Fe oxidation in LDH induced
  by selenite reduction
DTSTART:20260916T073000Z
DTEND:20260916T083000Z
LOCATION:OFLA/209
END:VEVENT
END:VCALENDAR
