BEGIN:VCALENDAR
PRODID:-//eluceo/ical//2.0/EN
VERSION:2.0
CALSCALE:GREGORIAN
BEGIN:VEVENT
UID:197858a85660a70f4bb8c3048c7bb58d
DTSTAMP:20260420T014319Z
SUMMARY:The Plasma Discharge Undulator
DTSTART:20260601T140000Z
DTEND:20260601T150000Z
LOCATION:WBGB/019
END:VEVENT
END:VCALENDAR
