BEGIN:VCALENDAR
PRODID:-//eluceo/ical//2.0/EN
VERSION:2.0
CALSCALE:GREGORIAN
BEGIN:VEVENT
UID:a3d5e7b560908162f0f6e5b60ab3116b
DTSTAMP:20260420T014319Z
SUMMARY:no seminar today (NCCR Muoniverse Kick-Off)
DTSTART:20260511T070000Z
DTEND:20260511T150000Z
LOCATION:WBGB/019
END:VEVENT
END:VCALENDAR
