BEGIN:VCALENDAR
PRODID:-//eluceo/ical//2.0/EN
VERSION:2.0
CALSCALE:GREGORIAN
BEGIN:VEVENT
UID:356af461e0347a05b400c8c16b547fdd
DTSTAMP:20260420T005829Z
SUMMARY:4RI ENRICH Health: Multiscale Imaging in Health and Disease
DTSTART:20260317T080000Z
DTEND:20260317T160000Z
LOCATION:Auditorium (Areal West)\, Paul Scherrer Institute
END:VEVENT
END:VCALENDAR
