BEGIN:VCALENDAR
PRODID:-//eluceo/ical//2.0/EN
VERSION:2.0
CALSCALE:GREGORIAN
BEGIN:VEVENT
UID:dc2701ece258b2c83367d8c461b16f97
DTSTAMP:20260420T092559Z
SUMMARY:tba
DTSTART:20260821T091500Z
DTEND:20260821T101500Z
LOCATION:Auditorium (WHGA/001)
END:VEVENT
END:VCALENDAR
