BEGIN:VCALENDAR
PRODID:-//eluceo/ical//2.0/EN
VERSION:2.0
CALSCALE:GREGORIAN
BEGIN:VEVENT
UID:817ca8c03ab0d2e28606bf4617f2665e
DTSTAMP:20260420T005701Z
SUMMARY:The fast rise of photovoltaics: from advanced research to new produ
 cts\, from China to Switzerland
DTSTART:20260522T091500Z
DTEND:20260522T101500Z
LOCATION:Auditorium (WHGA/001)
END:VEVENT
END:VCALENDAR
