BEGIN:VCALENDAR
PRODID:-//eluceo/ical//2.0/EN
VERSION:2.0
CALSCALE:GREGORIAN
BEGIN:VEVENT
UID:64f7df5ec1121f3455bdf22f58ed1064
DTSTAMP:20260422T071522Z
SUMMARY:SINQ++ Workshop
DTSTART:20260429T060000Z
DTEND:20260430T160000Z
LOCATION:PSI Auditorium\, Paul Scherrer Institute
END:VEVENT
END:VCALENDAR
