BEGIN:VCALENDAR
PRODID:-//eluceo/ical//2.0/EN
VERSION:2.0
CALSCALE:GREGORIAN
BEGIN:VEVENT
UID:e9738f5a76dba4560846d2421b04b707
DTSTAMP:20260424T011838Z
SUMMARY:NES PhD Day 2026
DTSTART:20260507T101000Z
DTEND:20260507T143000Z
LOCATION:\,  
END:VEVENT
END:VCALENDAR
