BEGIN:VCALENDAR
PRODID:-//eluceo/ical//2.0/EN
VERSION:2.0
CALSCALE:GREGORIAN
BEGIN:VEVENT
UID:c0e782c0cec00ff79a235896e5825c21
DTSTAMP:20260424T054232Z
SUMMARY: Performance of activated low purity clays as cementitious constitu
 ents – from fundamental research to industrial applications
DTSTART:20261209T083000Z
DTEND:20261209T093000Z
LOCATION:OFLA/209
END:VEVENT
END:VCALENDAR
