BEGIN:VCALENDAR
PRODID:-//eluceo/ical//2.0/EN
VERSION:2.0
CALSCALE:GREGORIAN
BEGIN:VEVENT
UID:91cb5d4f1c3d8e0cb2736adb02b7563f
DTSTAMP:20260424T011838Z
SUMMARY:Colloids Mediating the Environmental Transport Risk of Radionuclide
 s
DTSTART:20260504T073000Z
DTEND:20260504T090000Z
LOCATION:OHSA/E13 
END:VEVENT
END:VCALENDAR
