BEGIN:VCALENDAR
PRODID:-//eluceo/ical//2.0/EN
VERSION:2.0
CALSCALE:GREGORIAN
BEGIN:VEVENT
UID:17f655f1465512b75dcdf91424c9c296
DTSTAMP:20260420T072510Z
SUMMARY:LTP Theory Seminar: Probing hadronic CP violation with Electric Dip
 ole Moments of paramagnetic molecules
DTSTART:20260507T080000Z
DTEND:20260507T090000Z
LOCATION:WBGB/019
END:VEVENT
END:VCALENDAR
