BEGIN:VCALENDAR
PRODID:-//eluceo/ical//2.0/EN
VERSION:2.0
CALSCALE:GREGORIAN
BEGIN:VEVENT
UID:46e7410a660fbad045ae73df9e3a232a
DTSTAMP:20260419T221110Z
SUMMARY:Probing the local interplay of dynamics and disorder
DTSTART:20260317T100000Z
DTEND:20260317T110000Z
LOCATION:WSLA/B012
END:VEVENT
END:VCALENDAR
