BEGIN:VCALENDAR
PRODID:-//eluceo/ical//2.0/EN
VERSION:2.0
CALSCALE:GREGORIAN
BEGIN:VEVENT
UID:4dcf1b7d4d191d9cd72169c1344fe2e0
DTSTAMP:20260420T215849Z
SUMMARY:Condensed Matter Colloquium with Prof. Hanyu Zhu (Rice University)
DTSTART:20260617T091500Z
DTEND:20260617T211500Z
LOCATION:\,  
END:VEVENT
END:VCALENDAR
