BEGIN:VCALENDAR
PRODID:-//eluceo/ical//2.0/EN
VERSION:2.0
CALSCALE:GREGORIAN
BEGIN:VEVENT
UID:0d792f0cfeeb9812cc59e94b987be5de
DTSTAMP:20260420T055504Z
SUMMARY:Condensed Matter Colloquium with Prof. J. Faist\, ETHZ
DTSTART:20260529T091500Z
DTEND:20260529T211500Z
LOCATION:\,  
END:VEVENT
END:VCALENDAR
