BEGIN:VCALENDAR
PRODID:-//eluceo/ical//2.0/EN
VERSION:2.0
CALSCALE:GREGORIAN
BEGIN:VEVENT
UID:207873ac88fc782f9a6503242c01c598
DTSTAMP:20260419T220920Z
SUMMARY:Improving the Accuracy of Muonic X-ray Simulations: New Nuclear Mod
 els and Cascading Processes for MuDirac
DTSTART:20260323T140000Z
DTEND:20260323T150000Z
LOCATION:SZ-WHGA/121
END:VEVENT
END:VCALENDAR
