BEGIN:VCALENDAR
PRODID:-//eluceo/ical//2.0/EN
VERSION:2.0
CALSCALE:GREGORIAN
BEGIN:VEVENT
UID:6dc441f776346f286cd2da6a1b9baf84
DTSTAMP:20260424T041357Z
SUMMARY:Micro-spectroscopic investigation of corrosion processes at the int
 erface of iron and cement
DTSTART:20260819T073000Z
DTEND:20260819T083000Z
LOCATION:OFLA/209
END:VEVENT
END:VCALENDAR
