BEGIN:VCALENDAR
PRODID:-//eluceo/ical//2.0/EN
VERSION:2.0
CALSCALE:GREGORIAN
BEGIN:VEVENT
UID:d58eea2e651e80b2bda0a7ad21907ba7
DTSTAMP:20260420T215848Z
SUMMARY:tba
DTSTART:20260918T091500Z
DTEND:20260918T101500Z
LOCATION:Auditorium (WHGA/001)
END:VEVENT
END:VCALENDAR
