BEGIN:VCALENDAR
PRODID:-//eluceo/ical//2.0/EN
VERSION:2.0
CALSCALE:GREGORIAN
BEGIN:VEVENT
UID:080c9b0e9b8416442f24e87c6513765e
DTSTAMP:20260420T215849Z
SUMMARY:Solar Design for Decarbonizing Global Cities
DTSTART:20260626T091500Z
DTEND:20260626T101500Z
LOCATION:Auditorium (WHGA/001)
END:VEVENT
END:VCALENDAR
