BEGIN:VCALENDAR
PRODID:-//eluceo/ical//2.0/EN
VERSION:2.0
CALSCALE:GREGORIAN
BEGIN:VEVENT
UID:2837f17dd7e843d47be46daba932dbd2
DTSTAMP:20260420T050922Z
SUMMARY:IWSMT-17
DTSTART:20260420T060000Z
DTEND:20260424T124500Z
LOCATION:Auditorium\, PSI
END:VEVENT
END:VCALENDAR
