BEGIN:VCALENDAR
PRODID:-//eluceo/ical//2.0/EN
VERSION:2.0
CALSCALE:GREGORIAN
BEGIN:VEVENT
UID:ced9aa8d196c414368ae5d34351c4dd8
DTSTAMP:20260419T235914Z
SUMMARY:Condensed Matter Colloquium with Manfred Sigrist\, ETHZ
DTSTART:20260320T101500Z
DTEND:20260320T111500Z
LOCATION:\,  
END:VEVENT
END:VCALENDAR
