BEGIN:VCALENDAR
PRODID:-//eluceo/ical//2.0/EN
VERSION:2.0
CALSCALE:GREGORIAN
BEGIN:VEVENT
UID:871f240d07d2f2a80bed853a4a10cbc7
DTSTAMP:20260420T012134Z
SUMMARY:Materials Informatics Applied to the Energy Sector
DTSTART:20260501T090000Z
DTEND:20260501T100000Z
LOCATION:OSGA/EG6
END:VEVENT
END:VCALENDAR
