BEGIN:VCALENDAR
PRODID:-//eluceo/ical//2.0/EN
VERSION:2.0
CALSCALE:GREGORIAN
BEGIN:VEVENT
UID:2bd8c24ac1afd5e90f59b3c528f9c5c1
DTSTAMP:20260422T163715Z
SUMMARY:Simulation of mechanical processes in clays
DTSTART:20260617T073000Z
DTEND:20260617T083000Z
LOCATION:OFLA/209
END:VEVENT
END:VCALENDAR
