BEGIN:VCALENDAR
PRODID:-//eluceo/ical//2.0/EN
VERSION:2.0
CALSCALE:GREGORIAN
BEGIN:VEVENT
UID:5e1831fe1a7fb71d2cafe7f7e1012f2c
DTSTAMP:20260420T215848Z
SUMMARY:Von Multiperspektivität bis künstliche Intelligenz. Ein Kunsthaus
  in Transformation
DTSTART:20260424T091500Z
DTEND:20260424T101500Z
LOCATION:WHGA/001
END:VEVENT
END:VCALENDAR
