BEGIN:VCALENDAR
PRODID:-//eluceo/ical//2.0/EN
VERSION:2.0
CALSCALE:GREGORIAN
BEGIN:VEVENT
UID:5dcdbf7279346f993c3eee6f170729ef
DTSTAMP:20260419T220922Z
SUMMARY:Einstein Telescope: the next generation gravitational wave observat
 ory
DTSTART:20260306T101500Z
DTEND:20260306T111500Z
LOCATION:Auditorium (WHGA/001)
END:VEVENT
END:VCALENDAR
