BEGIN:VCALENDAR
PRODID:-//eluceo/ical//2.0/EN
VERSION:2.0
CALSCALE:GREGORIAN
BEGIN:VEVENT
UID:1b221b553d701c28a182945b67d6afa5
DTSTAMP:20260420T012135Z
SUMMARY:PAU R&I 2026\, PSI
DTSTART:20260504T160000Z
DTEND:20260507T153000Z
LOCATION:Parkhotel Bad Zurzach\, Switzerland
END:VEVENT
END:VCALENDAR
