BEGIN:VCALENDAR
PRODID:-//eluceo/ical//2.0/EN
VERSION:2.0
CALSCALE:GREGORIAN
BEGIN:VEVENT
UID:1f32802290d137e9c4fddae15dfeb275
DTSTAMP:20260424T105512Z
SUMMARY:BEC-to-BCS crossover from doublon to hole doping in the t’-Hubbar
 d model
DTSTART:20260429T080000Z
DTEND:20260429T090000Z
LOCATION:ODRA/111
END:VEVENT
END:VCALENDAR
