BEGIN:VCALENDAR
PRODID:-//eluceo/ical//2.0/EN
VERSION:2.0
CALSCALE:GREGORIAN
BEGIN:VEVENT
UID:01b4fa50293530b8fdb5c993cbca5975
DTSTAMP:20260421T140246Z
SUMMARY:Spin Hall Magnetoresistance at the Altermagnetic Insulator/Pt Inter
 face
DTSTART:20260521T080000Z
DTEND:20260521T090000Z
LOCATION:OVGA/200
END:VEVENT
END:VCALENDAR
