BEGIN:VCALENDAR
PRODID:-//eluceo/ical//2.0/EN
VERSION:2.0
CALSCALE:GREGORIAN
BEGIN:VEVENT
UID:97cd80f64aa0722413b37e63e29114f7
DTSTAMP:20260420T205348Z
SUMMARY:Swiss Corrosion Science Day 2026
DTSTART:20260424T080000Z
DTEND:20260424T142000Z
LOCATION:Park Innovaare
END:VEVENT
END:VCALENDAR
