BEGIN:VCALENDAR
PRODID:-//eluceo/ical//2.0/EN
VERSION:2.0
CALSCALE:GREGORIAN
BEGIN:VEVENT
UID:d9c80c224956d80bcd9acebbddca0d2c
DTSTAMP:20260420T042217Z
SUMMARY:Gerard Lawler
DTSTART:20260608T140000Z
DTEND:20260608T150000Z
LOCATION:\,  
END:VEVENT
END:VCALENDAR
