BEGIN:VCALENDAR
PRODID:-//eluceo/ical//2.0/EN
VERSION:2.0
CALSCALE:GREGORIAN
BEGIN:VEVENT
UID:49e6644bace90ec5c433e3c87a72771f
DTSTAMP:20260424T105512Z
SUMMARY:hpc-ch forum on Improving Access to HPC
DTSTART:20260507T073000Z
DTEND:20260507T145000Z
LOCATION:Conference Center\, EPFL - Starling Hotel Lausanne
END:VEVENT
END:VCALENDAR
