BEGIN:VCALENDAR
PRODID:-//eluceo/ical//2.0/EN
VERSION:2.0
CALSCALE:GREGORIAN
BEGIN:VEVENT
UID:5e1f115963b7ff795b6da36d69626015
DTSTAMP:20260420T005631Z
SUMMARY:Condensed Matter Colloquium with Prof. F. Mila
DTSTART:20260410T091500Z
DTEND:20260410T211500Z
LOCATION:\,  
END:VEVENT
END:VCALENDAR
