BEGIN:VCALENDAR
PRODID:-//eluceo/ical//2.0/EN
VERSION:2.0
CALSCALE:GREGORIAN
BEGIN:VEVENT
UID:5c9102281e59faeba0c8fcfd6cba3c10
DTSTAMP:20260420T002731Z
SUMMARY:NCCR Muoniverse
DTSTART:20260611T090000Z
DTEND:20260611T103000Z
LOCATION:Auditorium (WHGA/001)
END:VEVENT
END:VCALENDAR
