BEGIN:VCALENDAR
PRODID:-//eluceo/ical//2.0/EN
VERSION:2.0
CALSCALE:GREGORIAN
BEGIN:VEVENT
UID:e2beb70171cf2180383a2a71af5d7931
DTSTAMP:20260420T010012Z
SUMMARY:Open CHRISP Users Meeting BVR58
DTSTART:20270202T130000Z
DTEND:20270203T140000Z
LOCATION:Auditorium\, PSI
END:VEVENT
END:VCALENDAR
