BEGIN:VCALENDAR
PRODID:-//eluceo/ical//2.0/EN
VERSION:2.0
CALSCALE:GREGORIAN
BEGIN:VEVENT
UID:a314a197b0faa81770a6300a159d05be
DTSTAMP:20260419T220933Z
SUMMARY:Pollutant dynamics of bottom ash landfills: An interplay of hydrolo
 gical and geochemical processes
DTSTART:20260318T083000Z
DTEND:20260318T093000Z
LOCATION:OFLA/209
END:VEVENT
END:VCALENDAR
