BEGIN:VCALENDAR
PRODID:-//eluceo/ical//2.0/EN
VERSION:2.0
CALSCALE:GREGORIAN
BEGIN:VEVENT
UID:c5527f78966e7b392e1af5e9e9588e54
DTSTAMP:20260420T005632Z
SUMMARY:Building a star on earth: trends in fusion energy 
DTSTART:20260327T101500Z
DTEND:20260327T111500Z
LOCATION:Auditorium (WHGA/001)
END:VEVENT
END:VCALENDAR
