BEGIN:VCALENDAR
PRODID:-//eluceo/ical//2.0/EN
VERSION:2.0
CALSCALE:GREGORIAN
BEGIN:VEVENT
UID:33cbfc5d3e91e20e8b621d46a670d567
DTSTAMP:20260419T235446Z
SUMMARY:102nd Meeting of the EURO Working Group in Multiple Criteria Decisi
 on Aiding
DTSTART:20260917T070000Z
DTEND:20260919T150000Z
LOCATION:TBD\, ETH Zürich
END:VEVENT
END:VCALENDAR
