BEGIN:VCALENDAR
PRODID:-//eluceo/ical//2.0/EN
VERSION:2.0
CALSCALE:GREGORIAN
BEGIN:VEVENT
UID:677a5e59588a58d98b55af62f556a2bf
DTSTAMP:20260424T122422Z
SUMMARY:High Pressure Workshop
DTSTART:20260511T070000Z
DTEND:20260512T170000Z
LOCATION:Auditorium (WHGA)\, PSI Villigen
END:VEVENT
END:VCALENDAR
