BEGIN:VCALENDAR
PRODID:-//eluceo/ical//2.0/EN
VERSION:2.0
CALSCALE:GREGORIAN
BEGIN:VEVENT
UID:3891dea82eae8ef4129202223e9105b7
DTSTAMP:20260420T005632Z
SUMMARY:Latin-America Workshop on Advanced In Situ and Operando Methodologi
 es
DTSTART:20260318T110000Z
DTEND:20260320T200000Z
LOCATION:Santa Fe\, Argentina
END:VEVENT
END:VCALENDAR
